BEGIN:VCALENDAR
VERSION:2.0
PRODID:-//wp-events-plugin.com//7.2.3.1//EN
TZID:Europe/Berlin
X-WR-TIMEZONE:Europe/Berlin
BEGIN:VEVENT
UID:249@gothia-wuerzburg.de
DTSTART;TZID=Europe/Berlin:20170423T180000
DTEND;TZID=Europe/Berlin:20170423T180000
DTSTAMP:20170419T205647Z
URL:https://www.gothia-wuerzburg.de/events/wcv-semesterantrittsgottesdiens
 t/
SUMMARY:WCV-Semesterantrittsgottesdienst
DESCRIPTION:Zeit: 23.04.2017 18:00 Uhr st\nTyp: ho D  \nKleiderordnung: Anz
 ug\nLink: https://www.gothia-wuerzburg.de/events/wcv-semesterantrittsgotte
 sdienst/\n\nZelebrant: Cbr. Dr. Friedhelm Hofmann\, Bischof von Würzburg.
  Anschließend Ausklang adH e.v.K.D.St.V. Thuringia
CATEGORIES:Sommersemester 2017,WCV-Veranstaltungen im SoSe 2017
LOCATION:St. Burkard\, Burkarderstraße 42\, 97082 Würzburg\, Deutschland
GEO:49.7910937;9.924703399999999
X-APPLE-STRUCTURED-LOCATION;VALUE=URI;X-ADDRESS=Burkarderstraße 42\, 97082
  Würzburg\, Deutschland;X-APPLE-RADIUS=100;X-TITLE=St. Burkard:geo:49.791
 0937,9.924703399999999
END:VEVENT
BEGIN:VTIMEZONE
TZID:Europe/Berlin
X-LIC-LOCATION:Europe/Berlin
BEGIN:DAYLIGHT
DTSTART:20170326T030000
TZOFFSETFROM:+0100
TZOFFSETTO:+0200
TZNAME:CEST
END:DAYLIGHT
END:VTIMEZONE
END:VCALENDAR