BEGIN:VCALENDAR
VERSION:2.0
PRODID:-//wp-events-plugin.com//7.2.3.1//EN
TZID:Europe/Berlin
X-WR-TIMEZONE:Europe/Berlin
BEGIN:VEVENT
UID:201@gothia-wuerzburg.de
DTSTART;TZID=Europe/Berlin:20170212T180000
DTEND;TZID=Europe/Berlin:20170212T180000
DTSTAMP:20180105T203932Z
URL:https://www.gothia-wuerzburg.de/events/wcv-abschluss-2016-17/
SUMMARY:WCV-Semesterabschlussgottesdienst
DESCRIPTION:Zeit: 12.02.2017 18:00 Uhr st\nTyp: ho D  \nKleiderordnung: Anz
 ug\nLink: https://www.gothia-wuerzburg.de/events/wcv-abschluss-2016-17/\n\
 n\n\nDer WCV-Semesterabschlussgottesdienst wird zelebriert von Pfarrvikar 
 Cbr.&nbsp\;Christian Stadtmüller Cp! Mm!. Im Anschluss sind alle Messbesu
 cher zum Ausklang auf das Haus e.s.v. K.D.St.V. Markomannia Würzburg eing
 eladen.\n\nDie Messe ist Bestandteil des offiziellen Programmes des Aquili
 nsjahres.\n\n&nbsp\;
ATTACH;FMTTYPE=image/jpeg:https://www.gothia-wuerzburg.de/wp-content/uploa
 ds/2016/07/2016-WS-Abschlussgottesdienst.jpg
CATEGORIES:WCV-Veranstaltungen im WS 2016/17,Wintersemester 2016/17
LOCATION:St. Peter und Paul\, Peterplatz 8\, 97070 Würzburg\, Deutschland
GEO:49.78894;9.933040000000005
X-APPLE-STRUCTURED-LOCATION;VALUE=URI;X-ADDRESS=Peterplatz 8\, 97070 Würzb
 urg\, Deutschland;X-APPLE-RADIUS=100;X-TITLE=St. Peter und Paul:geo:49.788
 94,9.933040000000005
END:VEVENT
BEGIN:VTIMEZONE
TZID:Europe/Berlin
X-LIC-LOCATION:Europe/Berlin
BEGIN:STANDARD
DTSTART:20161030T020000
TZOFFSETFROM:+0200
TZOFFSETTO:+0100
TZNAME:CET
END:STANDARD
END:VTIMEZONE
END:VCALENDAR