BEGIN:VCALENDAR
VERSION:2.0
PRODID:-//wp-events-plugin.com//7.2.3.1//EN
TZID:Europe/Berlin
X-WR-TIMEZONE:Europe/Berlin
BEGIN:VEVENT
UID:956@gothia-wuerzburg.de
DTSTART;TZID=Europe/Berlin:20251206T110000
DTEND;TZID=Europe/Berlin:20251206T110000
DTSTAMP:20251128T130240Z
URL:https://www.gothia-wuerzburg.de/events/orgelmatinee/
SUMMARY:Orgelmatinee
DESCRIPTION:Zeit: 06.12.2025 11:00 Uhr ct\nTyp: ho D  \nKleiderordnung: Kom
 bination\nLink: https://www.gothia-wuerzburg.de/events/orgelmatinee/\n\nOr
 gelmatinee mit Bbr. Julian Schuster\n\nAnmeldung beim Consenior bitte bis 
 3. Dezember
LOCATION:Wallfahrtskirche Käppele\, Spittelbergweg 21\, Würzburg\, Deutsc
 hland\, 97082\, Unterfranken\, Deutschland
X-APPLE-STRUCTURED-LOCATION;VALUE=URI;X-ADDRESS=Spittelbergweg 21\, Würzbu
 rg\, Deutschland\, 97082\, Unterfranken\, Deutschland;X-APPLE-RADIUS=100;X
 -TITLE=Wallfahrtskirche Käppele:geo:0,0
END:VEVENT
BEGIN:VTIMEZONE
TZID:Europe/Berlin
X-LIC-LOCATION:Europe/Berlin
BEGIN:STANDARD
DTSTART:20251026T020000
TZOFFSETFROM:+0200
TZOFFSETTO:+0100
TZNAME:CET
END:STANDARD
END:VTIMEZONE
END:VCALENDAR