BEGIN:VCALENDAR
VERSION:2.0
PRODID:-//wp-events-plugin.com//7.2.3.1//EN
TZID:Europe/Berlin
X-WR-TIMEZONE:Europe/Berlin
BEGIN:VEVENT
UID:957@gothia-wuerzburg.de
DTSTART;TZID=Europe/Berlin:20251206T200000
DTEND;TZID=Europe/Berlin:20251206T200000
DTSTAMP:20251128T130314Z
URL:https://www.gothia-wuerzburg.de/events/nikolokneipe-11/
SUMMARY:Nikolokneipe
DESCRIPTION:Zeit: 06.12.2025 20:00 Uhr ct\nTyp: ho   \nKleiderordnung: Anzu
 g\nLink: https://www.gothia-wuerzburg.de/events/nikolokneipe-11/\n\nAnmeld
 ung beim Consenior bitte bis 3. Dezember
LOCATION:Gothenhaus\, Rottendorfer Str. 26\, 97074 Würzburg\, Deutschland
GEO:49.7911;9.952469999999948
X-APPLE-STRUCTURED-LOCATION;VALUE=URI;X-ADDRESS=Rottendorfer Str. 26\, 9707
 4 Würzburg\, Deutschland;X-APPLE-RADIUS=100;X-TITLE=Gothenhaus:geo:49.791
 1,9.952469999999948
END:VEVENT
BEGIN:VTIMEZONE
TZID:Europe/Berlin
X-LIC-LOCATION:Europe/Berlin
BEGIN:STANDARD
DTSTART:20251026T020000
TZOFFSETFROM:+0200
TZOFFSETTO:+0100
TZNAME:CET
END:STANDARD
END:VTIMEZONE
END:VCALENDAR