BEGIN:VCALENDAR
VERSION:2.0
PRODID:-//wp-events-plugin.com//7.2.3.1//EN
TZID:Europe/Berlin
X-WR-TIMEZONE:Europe/Berlin
BEGIN:VEVENT
UID:958@gothia-wuerzburg.de
DTSTART;TZID=Europe/Berlin:20251207T120000
DTEND;TZID=Europe/Berlin:20251207T120000
DTSTAMP:20251128T130349Z
URL:https://www.gothia-wuerzburg.de/events/hl-messe/
SUMMARY:Hl. Messe mit anschließendem Ausklang
DESCRIPTION:Zeit: 07.12.2025 12:00 Uhr st\nTyp: ho D  \nKleiderordnung: Anz
 ug\nLink: https://www.gothia-wuerzburg.de/events/hl-messe/\n\nAnschließen
 der Ausklang in den Residenzgaststätten\n\nAnmeldung beim Consenior bitte
  bis 3. Dezember
LOCATION:Dom St. Kilian\, Domstraße 43\, 97070 Würzburg\, Deutschland
GEO:49.7933494;9.931139700000017
X-APPLE-STRUCTURED-LOCATION;VALUE=URI;X-ADDRESS=Domstraße 43\, 97070 Würz
 burg\, Deutschland;X-APPLE-RADIUS=100;X-TITLE=Dom St. Kilian:geo:49.793349
 4,9.931139700000017
END:VEVENT
BEGIN:VTIMEZONE
TZID:Europe/Berlin
X-LIC-LOCATION:Europe/Berlin
BEGIN:STANDARD
DTSTART:20251026T020000
TZOFFSETFROM:+0200
TZOFFSETTO:+0100
TZNAME:CET
END:STANDARD
END:VTIMEZONE
END:VCALENDAR