BEGIN:VCALENDAR
VERSION:2.0
PRODID:-//wp-events-plugin.com//7.2.3.1//EN
TZID:Europe/Berlin
X-WR-TIMEZONE:Europe/Berlin
BEGIN:VEVENT
UID:656@gothia-wuerzburg.de
DTSTART;TZID=Europe/Berlin:20220611T100000
DTEND;TZID=Europe/Berlin:20220611T100000
DTSTAMP:20220425T191846Z
URL:https://www.gothia-wuerzburg.de/events/haus-und-gartentag-17/
SUMMARY:Haus- und Gartentag
DESCRIPTION:Zeit: 11.06.2022 10:00 Uhr st\nTyp: o  Privat Präsenz\nKleider
 ordnung: Leger\nLink: https://www.gothia-wuerzburg.de/events/haus-und-gart
 entag-17/\n\n
CATEGORIES:Sommersemester 2022
LOCATION:Gothenhaus\, Rottendorfer Str. 26\, 97074 Würzburg\, Deutschland
GEO:49.7911;9.952469999999948
X-APPLE-STRUCTURED-LOCATION;VALUE=URI;X-ADDRESS=Rottendorfer Str. 26\, 9707
 4 Würzburg\, Deutschland;X-APPLE-RADIUS=100;X-TITLE=Gothenhaus:geo:49.791
 1,9.952469999999948
END:VEVENT
BEGIN:VTIMEZONE
TZID:Europe/Berlin
X-LIC-LOCATION:Europe/Berlin
BEGIN:DAYLIGHT
DTSTART:20220327T030000
TZOFFSETFROM:+0100
TZOFFSETTO:+0200
TZNAME:CEST
END:DAYLIGHT
END:VTIMEZONE
END:VCALENDAR