BEGIN:VCALENDAR
VERSION:2.0
PRODID:-//wp-events-plugin.com//7.2.3.1//EN
TZID:Europe/Berlin
X-WR-TIMEZONE:Europe/Berlin
BEGIN:VEVENT
UID:839@gothia-wuerzburg.de
DTSTART;TZID=Europe/Berlin:20240617T201500
DTEND;TZID=Europe/Berlin:20240617T201500
DTSTAMP:20240415T113604Z
URL:https://www.gothia-wuerzburg.de/events/ac-wc-bc/
SUMMARY:AC/WC/BC
DESCRIPTION:Zeit: 17.06.2024 20:15 Uhr ct\nTyp: ho   \nKleiderordnung: Komb
 ination\nLink: https://www.gothia-wuerzburg.de/events/ac-wc-bc/\n\n
CATEGORIES:Sommersemester 2024
LOCATION:Gothenhaus\, Rottendorfer Str. 26\, Würzburg\, Bayern\, 97074\, D
 eutschland
GEO:49.791100;9.952470
X-APPLE-STRUCTURED-LOCATION;VALUE=URI;X-ADDRESS=Rottendorfer Str. 26\, Wür
 zburg\, Bayern\, 97074\, Deutschland;X-APPLE-RADIUS=100;X-TITLE=Gothenhaus
 :geo:49.791100,9.952470
END:VEVENT
BEGIN:VTIMEZONE
TZID:Europe/Berlin
X-LIC-LOCATION:Europe/Berlin
BEGIN:DAYLIGHT
DTSTART:20240331T030000
TZOFFSETFROM:+0100
TZOFFSETTO:+0200
TZNAME:CEST
END:DAYLIGHT
END:VTIMEZONE
END:VCALENDAR