BEGIN:VCALENDAR
VERSION:2.0
PRODID:-//wp-events-plugin.com//7.2.3.1//EN
TZID:Europe/Berlin
X-WR-TIMEZONE:Europe/Berlin
BEGIN:VEVENT
UID:959@gothia-wuerzburg.de
DTSTART;TZID=Europe/Berlin:20251020T200000
DTEND;TZID=Europe/Berlin:20251020T200000
DTSTAMP:20250925T175232Z
URL:https://www.gothia-wuerzburg.de/events/ac-bc-25/
SUMMARY:AC/BC
DESCRIPTION:Zeit: 20.10.2025 20:00 Uhr ct\nTyp: ho   \nKleiderordnung: Komb
 ination\nLink: https://www.gothia-wuerzburg.de/events/ac-bc-25/\n\n
LOCATION:Gothenhaus\, Rottendorfer Str. 26\, 97074 Würzburg\, Deutschland
GEO:49.7911;9.952469999999948
X-APPLE-STRUCTURED-LOCATION;VALUE=URI;X-ADDRESS=Rottendorfer Str. 26\, 9707
 4 Würzburg\, Deutschland;X-APPLE-RADIUS=100;X-TITLE=Gothenhaus:geo:49.791
 1,9.952469999999948
END:VEVENT
BEGIN:VTIMEZONE
TZID:Europe/Berlin
X-LIC-LOCATION:Europe/Berlin
BEGIN:DAYLIGHT
DTSTART:20250330T030000
TZOFFSETFROM:+0100
TZOFFSETTO:+0200
TZNAME:CEST
END:DAYLIGHT
END:VTIMEZONE
END:VCALENDAR